BEGIN:VCALENDAR
VERSION:2.0
PRODID:-//Bertrand Beyern - ECPv5.9.0//NONSGML v1.0//EN
CALSCALE:GREGORIAN
METHOD:PUBLISH
X-WR-CALNAME:Bertrand Beyern
X-ORIGINAL-URL:https://bertrandbeyern.fr
X-WR-CALDESC:Events for Bertrand Beyern
BEGIN:VTIMEZONE
TZID:Europe/Paris
BEGIN:DAYLIGHT
TZOFFSETFROM:+0100
TZOFFSETTO:+0200
TZNAME:CEST
DTSTART:20260329T010000
END:DAYLIGHT
BEGIN:STANDARD
TZOFFSETFROM:+0200
TZOFFSETTO:+0100
TZNAME:CET
DTSTART:20261025T010000
END:STANDARD
END:VTIMEZONE
BEGIN:VEVENT
DTSTART;TZID=Europe/Paris:20260425T100000
DTEND;TZID=Europe/Paris:20260425T100000
DTSTAMP:20260420T120421
CREATED:20260118T134148Z
LAST-MODIFIED:20260413T104524Z
UID:17421-1777111200-1777111200@bertrandbeyern.fr
SUMMARY:Le Petit Théâtre du Père-Lachaise\, de la Comédie-Française au "Boulevard du crime" et du TNP au Grand Magic Circus ! (Sans réservation).
DESCRIPTION:Hommage\, devant leurs tombes\, aux rois et reines de la scène théâtrale (souvent bien oubliés) en une quarantaine de tableaux !\nTriomphes éclatants\, « bides » retentissants\, soirées officielles\, créations « underground »\, scandales tonitruants\, une promenade de tréteaux en plateaux avec les interprètes des grands textes du répertoire sans oublier l’envers du décor : le trac en coulisses\, les mésententes derrière le rideau\, les rivalités\, les jalousies\, les histoires d’alcôve et les secrets du métier. Le tout jalonné de réparties cinglantes et d’anecdotes inoubliables !\nCet itinéraire inédit s’adresse\, bien sûr\, avant tout à un public familier du Père-Lachaise et acceptant de privilégier les figures du second rayon ou effacées des mémoires plutôt que les vedettes connues de tous ou bien déjà présentes dans mes autres circuits.
URL:https://bertrandbeyern.fr/event/le-petit-theatre-du-pere-lachaise-de-la-comedie-francaise-au-boulevard-du-crime-et-du-tnp-au-grand-magic-circus/
LOCATION:Rendez-vous place Gambetta (métro « Gambetta »)\, devant la mairie. Sans réservation.\, Place Gambetta (devant la mairie).\, Paris\, Ile de France\, 75020\, France
CATEGORIES:Cimetière du Père-Lachaise,Cimetieres en France
ATTACH;FMTTYPE=image/jpeg:https://bertrandbeyern.fr/wp-content/uploads/Rideau-de-theatre-photo-droits-reserves.jpg
ORGANIZER;CN="Bertrand%20Beyern":MAILTO:visite@bertrandbeyern.fr
END:VEVENT
BEGIN:VEVENT
DTSTART;TZID=Europe/Paris:20260425T141500
DTEND;TZID=Europe/Paris:20260425T141500
DTSTAMP:20260420T120421
CREATED:20211028T220124Z
LAST-MODIFIED:20260412T185518Z
UID:11522-1777126500-1777126500@bertrandbeyern.fr
SUMMARY:Humour noir au Père-Lachaise ! (Sans réservation).
DESCRIPTION:Parcours-spectacle destiné à désamorcer bien des angoisses\, pour public complice\, chef-d’œuvre d’humour et de tendresse. Traversée du cimetière entre tombes de grands personnages\, révélations ahurissantes… et anecdotes incroyablement grinçantes !
URL:https://bertrandbeyern.fr/event/humour-noir-au-pere-lachaise-sans-reservation-2/
LOCATION:Cimetière du Père-Lachaise (sortie du métro « Père-Lachaise »)\, boulevard de Ménilmontant\, devant le kiosque à journaux. (Sans réservation).\, 65 Bd de Ménilmontant\, 75011 Paris\, Paris\, Ile de France\, 75011\, France
CATEGORIES:Cimetière du Père-Lachaise,Cimetieres en France
ATTACH;FMTTYPE=image/jpeg:https://bertrandbeyern.fr/wp-content/uploads/thumbnail-10.jpg
END:VEVENT
END:VCALENDAR