BEGIN:VCALENDAR
VERSION:2.0
PRODID:-//Bertrand Beyern - ECPv5.9.0//NONSGML v1.0//EN
CALSCALE:GREGORIAN
METHOD:PUBLISH
X-WR-CALNAME:Bertrand Beyern
X-ORIGINAL-URL:https://bertrandbeyern.fr
X-WR-CALDESC:Events for Bertrand Beyern
BEGIN:VTIMEZONE
TZID:Europe/Paris
BEGIN:DAYLIGHT
TZOFFSETFROM:+0100
TZOFFSETTO:+0200
TZNAME:CEST
DTSTART:20260329T010000
END:DAYLIGHT
BEGIN:STANDARD
TZOFFSETFROM:+0200
TZOFFSETTO:+0100
TZNAME:CET
DTSTART:20261025T010000
END:STANDARD
END:VTIMEZONE
BEGIN:VEVENT
DTSTART;TZID=Europe/Paris:20260501T100000
DTEND;TZID=Europe/Paris:20260501T100000
DTSTAMP:20260422T101710
CREATED:20210401T095916Z
LAST-MODIFIED:20260416T203118Z
UID:8682-1777629600-1777629600@bertrandbeyern.fr
SUMMARY:Accidents et catastrophes : deux siècles de drames au Père-Lachaise ! (Sans réservation).
DESCRIPTION:Naufrages\, incendies\, explosions\, tragédies de toutes sortes… Deux siècles d’histoire tumultueuse pour découvrir des monuments parmi les plus méconnus du cimetière.
URL:https://bertrandbeyern.fr/event/accidents-et-catastrophes-deux-siecles-de-drames-au-pere-lachaise/
LOCATION:Rendez-vous place Gambetta (métro « Gambetta »)\, devant la mairie. Sans réservation.\, Place Gambetta (devant la mairie).\, Paris\, Ile de France\, 75020\, France
CATEGORIES:Cimetière du Père-Lachaise,Cimetieres en France
ATTACH;FMTTYPE=image/jpeg:https://bertrandbeyern.fr/wp-content/uploads/PL-71-CROCÉ-SPINELLi-et-SIVEL.jpg
ORGANIZER;CN="Bertrand%20Beyern":MAILTO:visite@bertrandbeyern.fr
END:VEVENT
BEGIN:VEVENT
DTSTART;TZID=Europe/Paris:20260501T141500
DTEND;TZID=Europe/Paris:20260501T141500
DTSTAMP:20260422T101710
CREATED:20220204T144756Z
LAST-MODIFIED:20260416T203300Z
UID:11968-1777644900-1777644900@bertrandbeyern.fr
SUMMARY:Humour noir au Père-Lachaise ! (Sans réservation).
DESCRIPTION:Parcours-spectacle destiné à désamorcer bien des angoisses\, pour public complice\, chef-d’œuvre d’humour et de tendresse. Traversée du cimetière entre tombes de grands personnages\, révélations ahurissantes et anecdotes incroyablement grinçantes !
URL:https://bertrandbeyern.fr/event/humour-noir-au-pere-lachaise-sans-reservation-4/
LOCATION:Cimetière du Père-Lachaise (sortie du métro « Père-Lachaise »)\, boulevard de Ménilmontant\, devant le kiosque à journaux. (Sans réservation).\, 65 Bd de Ménilmontant\, 75011 Paris\, Paris\, Ile de France\, 75011\, France
CATEGORIES:Cimetière du Père-Lachaise,Cimetieres en France
ATTACH;FMTTYPE=image/jpeg:https://bertrandbeyern.fr/wp-content/uploads/SAM_1576-scaled.jpg
ORGANIZER;CN="Bertrand%20Beyern":MAILTO:visite@bertrandbeyern.fr
END:VEVENT
BEGIN:VEVENT
DTSTART;TZID=Europe/Paris:20260502T100000
DTEND;TZID=Europe/Paris:20260502T100000
DTSTAMP:20260422T101710
CREATED:20211028T221948Z
LAST-MODIFIED:20260416T203448Z
UID:11528-1777716000-1777716000@bertrandbeyern.fr
SUMMARY:Tombes célèbres du Père-Lachaise\, de Balzac et Chopin à Piaf et Jim Morrison ! (Sans réservation).
DESCRIPTION:Circuit évoquant les figures incontournables (gloires de jadis et nouveaux venus)\, dévoilant les monuments les plus fameux\, empruntant les allées de prestige mais aussi les plus beaux chemins de traverse. Salué depuis tant d’années par le public et les médias.\nPoints forts : Balzac\, Chopin\, Molière\, Édith Piaf\, Jim Morrison…
URL:https://bertrandbeyern.fr/event/tombes-celebres-du-pere-lachaise-sans-reservation-2/
LOCATION:Rendez-vous place Gambetta (métro « Gambetta »)\, devant la mairie. Sans réservation.\, Place Gambetta (devant la mairie).\, Paris\, Ile de France\, 75020\, France
CATEGORIES:Cimetière du Père-Lachaise,Cimetieres en France
ATTACH;FMTTYPE=image/jpeg:https://bertrandbeyern.fr/wp-content/uploads/thumbnail-14.jpg
END:VEVENT
BEGIN:VEVENT
DTSTART;TZID=Europe/Paris:20260502T141500
DTEND;TZID=Europe/Paris:20260502T141500
DTSTAMP:20260422T101710
CREATED:20210203T175843Z
LAST-MODIFIED:20260418T164338Z
UID:7200-1777731300-1777731300@bertrandbeyern.fr
SUMMARY:Humour noir au Père-Lachaise ! (Sans réservation).
DESCRIPTION:Parcours-spectacle destiné à désamorcer bien des angoisses\, pour public complice\, chef-d’œuvre d’humour et de tendresse. Traversée du cimetière entre tombes de grands personnages et révélations ahurissantes.
URL:https://bertrandbeyern.fr/event/pere-lachaise-humour-noir/
LOCATION:Cimetière du Père-Lachaise (sortie du métro « Père-Lachaise »)\, boulevard de Ménilmontant\, devant le kiosque à journaux. (Sans réservation).\, 65 Bd de Ménilmontant\, 75011 Paris\, Paris\, Ile de France\, 75011\, France
CATEGORIES:Cimetière du Père-Lachaise,Cimetieres en France
ATTACH;FMTTYPE=image/jpeg:https://bertrandbeyern.fr/wp-content/uploads/jpg_cimg2003.jpg
END:VEVENT
BEGIN:VEVENT
DTSTART;TZID=Europe/Paris:20260503T100000
DTEND;TZID=Europe/Paris:20260503T100000
DTSTAMP:20260422T101710
CREATED:20231024T212222Z
LAST-MODIFIED:20260416T203902Z
UID:14919-1777802400-1777802400@bertrandbeyern.fr
SUMMARY:Histoires et secrets de famille au Père-Lachaise ! (Sans réservation).
DESCRIPTION:Du plateau au vallon romantique\, évocations de surprenantes destinées familiales : parentés inattendues\, filiations déroutantes\, mystères emportés dans la tombe. Entre folles passions et haines tenaces\, un itinéraire inédit au coeur des généalogies.
URL:https://bertrandbeyern.fr/event/histoires-et-secrets-de-famille-au-pere-lachaise-sans-reservation-3/
LOCATION:Rendez-vous place Gambetta (métro « Gambetta »)\, devant la mairie. Sans réservation.\, Place Gambetta (devant la mairie).\, Paris\, Ile de France\, 75020\, France
CATEGORIES:Cimetière du Père-Lachaise,Cimetieres en France
ATTACH;FMTTYPE=image/jpeg:https://bertrandbeyern.fr/wp-content/uploads/thumbnail-23.jpg
ORGANIZER;CN="Bertrand%20Beyern":MAILTO:visite@bertrandbeyern.fr
END:VEVENT
BEGIN:VEVENT
DTSTART;TZID=Europe/Paris:20260503T141500
DTEND;TZID=Europe/Paris:20260503T141500
DTSTAMP:20260422T101710
CREATED:20210219T083454Z
LAST-MODIFIED:20260416T203949Z
UID:8051-1777817700-1777817700@bertrandbeyern.fr
SUMMARY:Épatantes épitaphes au Père-Lachaise ! (Sans réservation).
DESCRIPTION:À la recherche des sépultures les plus bavardes de la nécropole : poèmes\, professions de foi\, dernières paroles\, citations\, erreurs de gravure\, paroles codées\, ultimes pirouettes\, tout un monde de lettres et de mots oubliés qui n’attendaient que d’être redécouverts. Du vallon romantique au fascinant sous-sol du columbarium\, une stupéfiante promenade à l’écart des circuits touristiques et des tombes de célébrités.
URL:https://bertrandbeyern.fr/event/pere-lachaise-epatantes-epitaphes/
LOCATION:Cimetière du Père-Lachaise (sortie du métro « Père-Lachaise »)\, boulevard de Ménilmontant\, devant le kiosque à journaux. (Sans réservation).\, 65 Bd de Ménilmontant\, 75011 Paris\, Paris\, Ile de France\, 75011\, France
CATEGORIES:Cimetière du Père-Lachaise,Cimetieres en France
ATTACH;FMTTYPE=image/jpeg:https://bertrandbeyern.fr/wp-content/uploads/DSC_7944-1-scaled.jpg
ORGANIZER;CN="Bertrand%20Beyern":MAILTO:visite@bertrandbeyern.fr
END:VEVENT
BEGIN:VEVENT
DTSTART;TZID=Europe/Paris:20260520T140000
DTEND;TZID=Europe/Paris:20260520T140000
DTSTAMP:20260422T101710
CREATED:20210412T164423Z
LAST-MODIFIED:20260413T105528Z
UID:8726-1779285600-1779285600@bertrandbeyern.fr
SUMMARY:Trésors et secrets du cimetière de Passy ! (ATTENTION : RESERVATION OBLIGATOIRE VIA LA RUBRIQUE "CONTACT").
DESCRIPTION:Exploration de cet écrin funéraire niché en surplomb de la place du Trocadéro. De l’Art Nouveau à l’Art Déco\, de la Belle Époque aux Années Folles\, écrivains\, politiques\, militaires\, comédiens\, aviateurs jalonnent cet élégant itinéraire fin-de-siècle.
URL:https://bertrandbeyern.fr/event/tresors-et-secrets-du-cimetiere-de-passy/
LOCATION:Place du Trocadéro\, devant le monument aux morts.
CATEGORIES:Cimetière de Passy,Cimetieres en France
ATTACH;FMTTYPE=image/jpeg:https://bertrandbeyern.fr/wp-content/uploads/SAM_8489.jpg
ORGANIZER;CN="Bertrand%20Beyern":MAILTO:visite@bertrandbeyern.fr
END:VEVENT
END:VCALENDAR